BEGIN:VCALENDAR
VERSION:2.0
PRODID:-//Suzanne Whitby - ECPv6.15.20//NONSGML v1.0//EN
CALSCALE:GREGORIAN
METHOD:PUBLISH
X-ORIGINAL-URL:https://suzannewhitby.com
X-WR-CALDESC:Events for Suzanne Whitby
REFRESH-INTERVAL;VALUE=DURATION:PT1H
X-Robots-Tag:noindex
X-PUBLISHED-TTL:PT1H
BEGIN:VTIMEZONE
TZID:Europe/Vienna
BEGIN:DAYLIGHT
TZOFFSETFROM:+0100
TZOFFSETTO:+0200
TZNAME:CEST
DTSTART:20210328T010000
END:DAYLIGHT
BEGIN:STANDARD
TZOFFSETFROM:+0200
TZOFFSETTO:+0100
TZNAME:CET
DTSTART:20211031T010000
END:STANDARD
BEGIN:DAYLIGHT
TZOFFSETFROM:+0100
TZOFFSETTO:+0200
TZNAME:CEST
DTSTART:20220327T010000
END:DAYLIGHT
BEGIN:STANDARD
TZOFFSETFROM:+0200
TZOFFSETTO:+0100
TZNAME:CET
DTSTART:20221030T010000
END:STANDARD
BEGIN:DAYLIGHT
TZOFFSETFROM:+0100
TZOFFSETTO:+0200
TZNAME:CEST
DTSTART:20230326T010000
END:DAYLIGHT
BEGIN:STANDARD
TZOFFSETFROM:+0200
TZOFFSETTO:+0100
TZNAME:CET
DTSTART:20231029T010000
END:STANDARD
END:VTIMEZONE
BEGIN:VEVENT
DTSTART;TZID=Europe/Vienna:20221004T160000
DTEND;TZID=Europe/Vienna:20221004T173000
DTSTAMP:20260422T141640
CREATED:20220823T112235Z
LAST-MODIFIED:20220823T112235Z
UID:56137-1664899200-1664904600@suzannewhitby.com
SUMMARY:EcoFiction Book Club / Drive Your Plow Over the Bones of the Dead\, Olga Tokarczuk (Online)
DESCRIPTION:Love reading? Interested in exploring environmental disruption\, climate change and sustainability through the eyes of speculative and ecofiction whilst looking for ideas\, solutions and ways to tackle today’s challenges? The Wild Seed EcoFiction reading group/book club is for you. Facilitated by Suzanne Whitby and organised by Peak to Deep\, join readers from around the world to discuss\, share\, think\, and enjoy! This month\, we’ll be discussing Drive Your Plow Over the Bones of the Dead by Olga Tokarczuk.
URL:https://suzannewhitby.com/event/ecofiction-book-club-drive-your-plow-over-the-bones-of-the-dead-olga-tokarczuk-online/
CATEGORIES:Virtual,Wild Seed Reading Group
ATTACH;FMTTYPE=image/jpeg:https://suzannewhitby.com/wp-content/uploads/experience-ef-reading-group-wild-seed.jpg
END:VEVENT
BEGIN:VEVENT
DTSTART;TZID=Europe/Vienna:20220906T160000
DTEND;TZID=Europe/Vienna:20220906T173000
DTSTAMP:20260422T141640
CREATED:20220823T111452Z
LAST-MODIFIED:20220823T111452Z
UID:56134-1662480000-1662485400@suzannewhitby.com
SUMMARY:EcoFiction Book Club / Flight Behavior\, Barbara Kingsolver (Online)
DESCRIPTION:Love reading? Interested in exploring environmental disruption\, climate change and sustainability through the eyes of speculative and ecofiction whilst looking for ideas\, solutions and ways to tackle today’s challenges? The Wild Seed EcoFiction reading group/book club is for you. Facilitated by Suzanne Whitby and organised by Peak to Deep\, join readers from around the world to discuss\, share\, think\, and enjoy! This month\, we’ll be discussing Flight Behavior by Barbara Kingsolver.
URL:https://suzannewhitby.com/event/ecofiction-book-club-flight-behavior-barbara-kingsolver-online/
CATEGORIES:Virtual,Wild Seed Reading Group
END:VEVENT
END:VCALENDAR