BEGIN:VCALENDAR
VERSION:2.0
PRODID:-//Suzanne Whitby - ECPv6.15.20//NONSGML v1.0//EN
CALSCALE:GREGORIAN
METHOD:PUBLISH
X-ORIGINAL-URL:https://suzannewhitby.com
X-WR-CALDESC:Events for Suzanne Whitby
REFRESH-INTERVAL;VALUE=DURATION:PT1H
X-Robots-Tag:noindex
X-PUBLISHED-TTL:PT1H
BEGIN:VTIMEZONE
TZID:Europe/Vienna
BEGIN:DAYLIGHT
TZOFFSETFROM:+0100
TZOFFSETTO:+0200
TZNAME:CEST
DTSTART:20210328T010000
END:DAYLIGHT
BEGIN:STANDARD
TZOFFSETFROM:+0200
TZOFFSETTO:+0100
TZNAME:CET
DTSTART:20211031T010000
END:STANDARD
BEGIN:DAYLIGHT
TZOFFSETFROM:+0100
TZOFFSETTO:+0200
TZNAME:CEST
DTSTART:20220327T010000
END:DAYLIGHT
BEGIN:STANDARD
TZOFFSETFROM:+0200
TZOFFSETTO:+0100
TZNAME:CET
DTSTART:20221030T010000
END:STANDARD
BEGIN:DAYLIGHT
TZOFFSETFROM:+0100
TZOFFSETTO:+0200
TZNAME:CEST
DTSTART:20230326T010000
END:DAYLIGHT
BEGIN:STANDARD
TZOFFSETFROM:+0200
TZOFFSETTO:+0100
TZNAME:CET
DTSTART:20231029T010000
END:STANDARD
END:VTIMEZONE
BEGIN:VEVENT
DTSTART;TZID=Europe/Vienna:20220209T160000
DTEND;TZID=Europe/Vienna:20220209T200000
DTSTAMP:20260422T141301
CREATED:20220127T142640Z
LAST-MODIFIED:20220127T142640Z
UID:55357-1644422400-1644436800@suzannewhitby.com
SUMMARY:The Climate Collage Workshop (English\, Climate Fresk)
DESCRIPTION:The Climate Collage Workshop (English\, Climate Fresk)\n			\n				\n				\n				\n				\n				Online via Zoom on 9 Feb 2022.16h00-20h00 CET \n			\n				\n				\n				\n				\n				Workshop detailsRegistration \n			\n			\n				\n				\n				\n				\n			\n				\n				\n			\n				\n				\n				\n				\n				\n				\n				\n				\n				\n				\n				\n				\n				\n				\n				\n				\n				\n				The Climate Collage (Climate Fresk) is a fun\, participatory workshop to help you understand climate challenge & what we can do to tackle it.\n			\n				\n				\n				\n				\n				Details & registration
URL:https://suzannewhitby.com/event/the-climate-collage-workshop-english-climate-fresk/
CATEGORIES:English,Virtual
ATTACH;FMTTYPE=image/jpeg:https://suzannewhitby.com/wp-content/uploads/2022-eb-hands.jpg
END:VEVENT
END:VCALENDAR